BEGIN:VCALENDAR
VERSION:2.0
PRODID:SchoolNow
CALSCALE:GREGORIAN
BEGIN:VEVENT
UID:8f7c137c-d9e9-11ef-9752-0a58a9feac02
DTSTAMP:20250124T002422Z
SUMMARY:Volleyball (Girls F) @ Andrean High School
LOCATION:Andrean High School
URL;VALUE=URI:https://www.tricreek.k12.in.us/lhs/calendar/7361098/volleybal
 l-girls-f-andrean-high-school
DTSTART:20251002T223000Z
DTEND:20251003T003000Z
END:VEVENT
END:VCALENDAR
