BEGIN:VCALENDAR
VERSION:2.0
PRODID:SchoolNow
CALSCALE:GREGORIAN
BEGIN:VEVENT
UID:8f7c146c-d9e9-11ef-a6ee-0a58a9feac02
DTSTAMP:20250124T002422Z
SUMMARY:Volleyball (Girls F) - Hobart High School
LOCATION:Lowell Senior High School
URL;VALUE=URI:https://www.tricreek.k12.in.us/lhs/calendar/7361099/volleybal
 l-girls-f-hobart-high-school
DTSTART:20250828T223000Z
DTEND:20250829T003000Z
END:VEVENT
END:VCALENDAR
