BEGIN:VCALENDAR
VERSION:2.0
PRODID:SchoolNow
CALSCALE:GREGORIAN
BEGIN:VEVENT
UID:8f7c21dc-d9e9-11ef-ba9c-0a58a9feac02
DTSTAMP:20250124T002422Z
SUMMARY:Volleyball (Girls F) - Hanover Central Jr-Sr High School
LOCATION:Lowell Senior High School
URL;VALUE=URI:https://www.tricreek.k12.in.us/lhs/calendar/7361101/volleybal
 l-girls-f-hanover-central-jr-sr-high-school
DTSTART:20241010T223000Z
DTEND:20241011T003000Z
END:VEVENT
END:VCALENDAR
