BEGIN:VCALENDAR
VERSION:2.0
PRODID:SchoolNow
CALSCALE:GREGORIAN
BEGIN:VEVENT
UID:8f7c24c0-d9e9-11ef-afff-0a58a9feac02
DTSTAMP:20250124T002422Z
SUMMARY:Volleyball (Girls F) @ Kankakee Valley High School
LOCATION:Kankakee Valley High School
URL;VALUE=URI:https://www.tricreek.k12.in.us/lhs/calendar/7361102/volleybal
 l-girls-f-kankakee-valley-high-school
DTSTART:20241001T223000Z
DTEND:20241002T003000Z
END:VEVENT
END:VCALENDAR
