BEGIN:VCALENDAR
VERSION:2.0
PRODID:SchoolNow
CALSCALE:GREGORIAN
BEGIN:VEVENT
UID:8f7c25c4-d9e9-11ef-b42c-0a58a9feac02
DTSTAMP:20250124T002422Z
SUMMARY:Volleyball (Girls F) - Andrean High School
LOCATION:Lowell Senior High School
URL;VALUE=URI:https://www.tricreek.k12.in.us/lhs/calendar/7361103/volleybal
 l-girls-f-andrean-high-school
DTSTART:20250909T223000Z
DTEND:20250910T003000Z
END:VEVENT
END:VCALENDAR
