BEGIN:VCALENDAR
VERSION:2.0
PRODID:SchoolNow
CALSCALE:GREGORIAN
BEGIN:VEVENT
UID:8f7c29d4-d9e9-11ef-b8b0-0a58a9feac02
DTSTAMP:20250124T002422Z
SUMMARY:Volleyball (Girls F) - Highland High School
LOCATION:Lowell Senior High School
URL;VALUE=URI:https://www.tricreek.k12.in.us/lhs/calendar/7361104/volleybal
 l-girls-f-highland-high-school
DTSTART:20250826T220000Z
DTEND:20250827T000000Z
END:VEVENT
END:VCALENDAR
