BEGIN:VCALENDAR
VERSION:2.0
PRODID:SchoolNow
CALSCALE:GREGORIAN
BEGIN:VEVENT
UID:8f7c2b00-d9e9-11ef-ab21-0a58a9feac02
DTSTAMP:20250124T002422Z
SUMMARY:Volleyball (Girls F) - Illiana Christian High School
LOCATION:Lowell Senior High School
URL;VALUE=URI:https://www.tricreek.k12.in.us/lhs/calendar/7361105/volleybal
 l-girls-f-illiana-christian-high-school
DTSTART:20250908T223000Z
DTEND:20250909T003000Z
END:VEVENT
END:VCALENDAR
