BEGIN:VCALENDAR
VERSION:2.0
PRODID:SchoolNow
CALSCALE:GREGORIAN
BEGIN:VEVENT
UID:8f7c2bf0-d9e9-11ef-a6d6-0a58a9feac02
DTSTAMP:20250124T002422Z
SUMMARY:Volleyball (Girls F) @ Highland High School
LOCATION:Highland High School
URL;VALUE=URI:https://www.tricreek.k12.in.us/lhs/calendar/7361106/volleybal
 l-girls-f-highland-high-school
DTSTART:20240924T223000Z
DTEND:20240925T003000Z
END:VEVENT
END:VCALENDAR
