BEGIN:VCALENDAR
VERSION:2.0
PRODID:SchoolNow
CALSCALE:GREGORIAN
BEGIN:VEVENT
UID:8f7c2ce0-d9e9-11ef-8d59-0a58a9feac02
DTSTAMP:20250124T002422Z
SUMMARY:Volleyball (Girls F) @ Crown Point Freshmen Tournament
LOCATION:Crown Point High School
URL;VALUE=URI:https://www.tricreek.k12.in.us/lhs/calendar/7361107/volleybal
 l-girls-f-crown-point-freshmen-tournament
DTSTART:20250913T140000Z
DTEND:20250913T160000Z
END:VEVENT
END:VCALENDAR
