BEGIN:VCALENDAR
VERSION:2.0
PRODID:SchoolNow
CALSCALE:GREGORIAN
BEGIN:VEVENT
UID:8f7c2dc6-d9e9-11ef-a867-0a58a9feac02
DTSTAMP:20250124T002422Z
SUMMARY:Cross Country (Boys V/JV) @ Highland High School Invite (Boys-Girls
 )
LOCATION:Highland High School
URL;VALUE=URI:https://www.tricreek.k12.in.us/lhs/calendar/7361108/cross-cou
 ntry-boys-v-jv-highland-high-school-invite-boys-girls
DTSTART:20240928T140000Z
DTEND:20240928T160000Z
END:VEVENT
END:VCALENDAR
