BEGIN:VCALENDAR
VERSION:2.0
PRODID:SchoolNow
CALSCALE:GREGORIAN
BEGIN:VEVENT
UID:8f7c30c8-d9e9-11ef-8d0a-0a58a9feac02
DTSTAMP:20250124T002422Z
SUMMARY:Cross Country (Boys V/JV) @ Northwest Crossroads Conference Meet
LOCATION:Kankakee Valley High School
URL;VALUE=URI:https://www.tricreek.k12.in.us/lhs/calendar/7361109/cross-cou
 ntry-boys-v-jv-northwest-crossroads-conference-meet
DTSTART:20241005T140000Z
DTEND:20241005T160000Z
END:VEVENT
END:VCALENDAR
