BEGIN:VCALENDAR
VERSION:2.0
PRODID:SchoolNow
CALSCALE:GREGORIAN
BEGIN:VEVENT
UID:8f7c346a-d9e9-11ef-8412-0a58a9feac02
DTSTAMP:20250124T002422Z
SUMMARY:Cross Country (Boys V/JV) @ IHSAA Sectional
LOCATION:Highland High School
URL;VALUE=URI:https://www.tricreek.k12.in.us/lhs/calendar/7361111/cross-cou
 ntry-boys-v-jv-ihsaa-sectional
DTSTART:20241019T150000Z
DTEND:20241019T170000Z
END:VEVENT
END:VCALENDAR
