BEGIN:VCALENDAR
VERSION:2.0
PRODID:SchoolNow
CALSCALE:GREGORIAN
BEGIN:VEVENT
UID:8f7c3924-d9e9-11ef-91db-0a58a9feac02
DTSTAMP:20250124T002422Z
SUMMARY:Cross Country (Boys V/JV) @ IHSAA Regional
LOCATION:New Prairie High School
URL;VALUE=URI:https://www.tricreek.k12.in.us/lhs/calendar/7361113/cross-cou
 ntry-boys-v-jv-ihsaa-regional
DTSTART:20241026T161500Z
DTEND:20241026T181500Z
END:VEVENT
END:VCALENDAR
