BEGIN:VCALENDAR
VERSION:2.0
PRODID:SchoolNow
CALSCALE:GREGORIAN
BEGIN:VEVENT
UID:8f7c3a82-d9e9-11ef-bf16-0a58a9feac02
DTSTAMP:20250124T002422Z
SUMMARY:Cross Country (Boys V/JV) @ IHSAA State Finals
LOCATION:IHSAA State Finals
URL;VALUE=URI:https://www.tricreek.k12.in.us/lhs/calendar/7361114/cross-cou
 ntry-boys-v-jv-ihsaa-state-finals
DTSTART:20241102T183002Z
DTEND:20241102T203002Z
END:VEVENT
END:VCALENDAR
