BEGIN:VCALENDAR
VERSION:2.0
PRODID:SchoolNow
CALSCALE:GREGORIAN
BEGIN:VEVENT
UID:8f7c3cee-d9e9-11ef-a90a-0a58a9feac02
DTSTAMP:20250124T002422Z
SUMMARY:Cross Country (Boys V/JV) - Northwest Crossroads Conference Meet
LOCATION:Lowell Senior High School
URL;VALUE=URI:https://www.tricreek.k12.in.us/lhs/calendar/7361115/cross-cou
 ntry-boys-v-jv-northwest-crossroads-conference-meet
DTSTART:20251004T133000Z
DTEND:20251004T153000Z
END:VEVENT
END:VCALENDAR
