BEGIN:VCALENDAR
VERSION:2.0
PRODID:SchoolNow
CALSCALE:GREGORIAN
BEGIN:VEVENT
UID:8f7c4306-d9e9-11ef-be58-0a58a9feac02
DTSTAMP:20250124T002422Z
SUMMARY:9FB Film
LOCATION:LHS G103\, LHS G104
URL;VALUE=URI:https://www.tricreek.k12.in.us/lhs/calendar/7361118/9fb-film
DTSTART:20241011T200000Z
DTEND:20241011T210000Z
END:VEVENT
END:VCALENDAR
