BEGIN:VCALENDAR
VERSION:2.0
PRODID:SchoolNow
CALSCALE:GREGORIAN
BEGIN:VEVENT
UID:8f7c5260-d9e9-11ef-873c-0a58a9feac02
DTSTAMP:20250124T002422Z
SUMMARY:FB WTS
LOCATION:LHS Weight Room
URL;VALUE=URI:https://www.tricreek.k12.in.us/lhs/calendar/7361121/fb-wts
DTSTART:20241014T221500Z
DTEND:20241014T233000Z
END:VEVENT
END:VCALENDAR
