BEGIN:VCALENDAR
VERSION:2.0
PRODID:SchoolNow
CALSCALE:GREGORIAN
BEGIN:VEVENT
UID:8f7c535a-d9e9-11ef-aac2-0a58a9feac02
DTSTAMP:20250124T002422Z
SUMMARY:FB WTS
LOCATION:LHS Weight Room
URL;VALUE=URI:https://www.tricreek.k12.in.us/lhs/calendar/7361122/fb-wts
DTSTART:20241021T221500Z
DTEND:20241021T233000Z
END:VEVENT
END:VCALENDAR
