BEGIN:VCALENDAR
VERSION:2.0
PRODID:SchoolNow
CALSCALE:GREGORIAN
BEGIN:VEVENT
UID:8f7c5530-d9e9-11ef-8b5a-0a58a9feac02
DTSTAMP:20250124T002422Z
SUMMARY:FB WTS
LOCATION:LHS Weight Room
URL;VALUE=URI:https://www.tricreek.k12.in.us/lhs/calendar/7361124/fb-wts
DTSTART:20241104T231500Z
DTEND:20241105T003000Z
END:VEVENT
END:VCALENDAR
