BEGIN:VCALENDAR
VERSION:2.0
PRODID:SchoolNow
CALSCALE:GREGORIAN
BEGIN:VEVENT
UID:8f7c662e-d9e9-11ef-bf8c-0a58a9feac02
DTSTAMP:20250124T002422Z
SUMMARY:FB WTS
LOCATION:LHS Weight Room
URL;VALUE=URI:https://www.tricreek.k12.in.us/lhs/calendar/7361144/fb-wts
DTSTART:20241002T231600Z
DTEND:20241003T003000Z
END:VEVENT
END:VCALENDAR
