BEGIN:VCALENDAR
VERSION:2.0
PRODID:SchoolNow
CALSCALE:GREGORIAN
BEGIN:VEVENT
UID:8f7c68ae-d9e9-11ef-b89b-0a58a9feac02
DTSTAMP:20250124T002422Z
SUMMARY:FB WTS
LOCATION:LHS Weight Room
URL;VALUE=URI:https://www.tricreek.k12.in.us/lhs/calendar/7361147/fb-wts
DTSTART:20241023T231600Z
DTEND:20241024T003000Z
END:VEVENT
END:VCALENDAR
