BEGIN:VCALENDAR
VERSION:2.0
PRODID:SchoolNow
CALSCALE:GREGORIAN
BEGIN:VEVENT
UID:8f7c6ab6-d9e9-11ef-818f-0a58a9feac02
DTSTAMP:20250124T002422Z
SUMMARY:FB WTS
LOCATION:LHS Weight Room
URL;VALUE=URI:https://www.tricreek.k12.in.us/lhs/calendar/7361148/fb-wts
DTSTART:20241030T231600Z
DTEND:20241031T003000Z
END:VEVENT
END:VCALENDAR
