BEGIN:VCALENDAR
VERSION:2.0
PRODID:SchoolNow
CALSCALE:GREGORIAN
BEGIN:VEVENT
UID:8f7c6c00-d9e9-11ef-b8e8-0a58a9feac02
DTSTAMP:20250124T002422Z
SUMMARY:FB WTS
LOCATION:LHS Weight Room
URL;VALUE=URI:https://www.tricreek.k12.in.us/lhs/calendar/7361149/fb-wts
DTSTART:20241107T001600Z
DTEND:20241107T013000Z
END:VEVENT
END:VCALENDAR
