BEGIN:VCALENDAR
VERSION:2.0
PRODID:SchoolNow
CALSCALE:GREGORIAN
BEGIN:VEVENT
UID:8f7c6db8-d9e9-11ef-8363-0a58a9feac02
DTSTAMP:20250124T002422Z
SUMMARY:FB Practice
LOCATION:LHS Football Field & Track
URL;VALUE=URI:https://www.tricreek.k12.in.us/lhs/calendar/7361151/fb-practi
 ce
DTSTART:20241007T201500Z
DTEND:20241007T223000Z
END:VEVENT
END:VCALENDAR
