BEGIN:VCALENDAR
VERSION:2.0
PRODID:SchoolNow
CALSCALE:GREGORIAN
BEGIN:VEVENT
UID:8f7c73a8-d9e9-11ef-9245-0a58a9feac02
DTSTAMP:20250124T002422Z
SUMMARY:FB Practice
LOCATION:LHS Football Field & Track
URL;VALUE=URI:https://www.tricreek.k12.in.us/lhs/calendar/7361156/fb-practi
 ce
DTSTART:20241111T211500Z
DTEND:20241111T233000Z
END:VEVENT
END:VCALENDAR
