BEGIN:VCALENDAR
VERSION:2.0
PRODID:SchoolNow
CALSCALE:GREGORIAN
BEGIN:VEVENT
UID:8f7c748e-d9e9-11ef-949c-0a58a9feac02
DTSTAMP:20250124T002422Z
SUMMARY:FB Practice
LOCATION:LHS Football Field & Track
URL;VALUE=URI:https://www.tricreek.k12.in.us/lhs/calendar/7361157/fb-practi
 ce
DTSTART:20240924T201500Z
DTEND:20240924T233000Z
END:VEVENT
END:VCALENDAR
