BEGIN:VCALENDAR
VERSION:2.0
PRODID:SchoolNow
CALSCALE:GREGORIAN
BEGIN:VEVENT
UID:3385eb00-5c03-11f0-82a1-02d97994879b
DTSTAMP:20251216T154612Z
SUMMARY:LHS Career Fair
URL;VALUE=URI:https://www.tricreek.k12.in.us/lhs/calendar/8395679/lhs-caree
 r-fair
DTSTART:20251029T130000Z
DTEND:20251029T170000Z
END:VEVENT
END:VCALENDAR
