BEGIN:VCALENDAR
VERSION:2.0
PRODID:SchoolNow
CALSCALE:GREGORIAN
BEGIN:VEVENT
UID:3385eeb6-5c03-11f0-a7f0-02d97994879b
DTSTAMP:20251216T154612Z
SUMMARY:LHS College Fair
URL;VALUE=URI:https://www.tricreek.k12.in.us/lhs/calendar/8395680/lhs-colle
 ge-fair
DTSTART:20250902T230000Z
DTEND:20250903T003000Z
END:VEVENT
END:VCALENDAR
