BEGIN:VCALENDAR
VERSION:2.0
PRODID:SchoolNow
CALSCALE:GREGORIAN
BEGIN:VEVENT
UID:3385f10e-5c03-11f0-9760-02d97994879b
DTSTAMP:20251216T154612Z
SUMMARY:Lilly Scholarship Application Deadline
URL;VALUE=URI:https://www.tricreek.k12.in.us/lhs/calendar/8395682/lilly-sch
 olarship-application-deadline
DTSTART;VALUE=DATE:20250925
DTEND;VALUE=DATE:20250926
END:VEVENT
END:VCALENDAR
