BEGIN:VCALENDAR
VERSION:2.0
PRODID:SchoolNow
CALSCALE:GREGORIAN
BEGIN:VEVENT
UID:39e96622-18c6-11f1-bb7f-0238ae696e11
DTSTAMP:20260421T042007Z
SUMMARY:LMS Picture Day
URL;VALUE=URI:https://www.tricreek.k12.in.us/lms/calendar/8894067/lms-pictu
 re-day
DTSTART:20260821T140000Z
DTEND:20260821T180000Z
END:VEVENT
END:VCALENDAR
