BEGIN:VCALENDAR
VERSION:2.0
PRODID:SchoolNow
CALSCALE:GREGORIAN
BEGIN:VEVENT
UID:39e98c92-18c6-11f1-b55d-0238ae696e11
DTSTAMP:20260421T042007Z
SUMMARY:LMS Picture Retakes
URL;VALUE=URI:https://www.tricreek.k12.in.us/lms/calendar/8894068/lms-pictu
 re-retakes
DTSTART:20261028T140000Z
DTEND:20261028T170000Z
END:VEVENT
END:VCALENDAR
